BEGIN:VCALENDAR
VERSION:2.0
PRODID:-//Hetan latu ry - ECPv5.14.2.1//NONSGML v1.0//EN
CALSCALE:GREGORIAN
METHOD:PUBLISH
X-WR-CALNAME:Hetan latu ry
X-ORIGINAL-URL:https://www.hetanlatu.fi
X-WR-CALDESC:Events for Hetan latu ry
REFRESH-INTERVAL;VALUE=DURATION:PT1H
X-Robots-Tag:noindex
X-PUBLISHED-TTL:PT1H
BEGIN:VTIMEZONE
TZID:UTC
BEGIN:STANDARD
TZOFFSETFROM:+0000
TZOFFSETTO:+0000
TZNAME:UTC
DTSTART:20240101T000000
END:STANDARD
END:VTIMEZONE
BEGIN:VEVENT
DTSTART;TZID=UTC:20241121T180000
DTEND;TZID=UTC:20241121T200000
DTSTAMP:20260421T123902
CREATED:20241101T152534Z
LAST-MODIFIED:20241101T161921Z
UID:876-1732212000-1732219200@www.hetanlatu.fi
SUMMARY:Hämärähommat 21.11.
DESCRIPTION:Hetan Latu kutsuu kaikkia perheitä ja kaikista taustoista sekä iästä riippumatta Hämärähommiin pimeään metsään seikkailemaan. Tapahtuma toteutuu 21.11. klo 18-20\,  Lievosella Luomaanvaarantie 19. Mukaan otsalamput tai taskulamput. \nHetan Latu tarjoaa mehut ja makkarat. Tervetuloa seikkailemaan!
URL:https://www.hetanlatu.fi/tapahtuma/hamarahommat-21-11/
END:VEVENT
END:VCALENDAR