BEGIN:VCALENDAR
VERSION:2.0
PRODID:-//Hetan latu ry - ECPv5.14.2.1//NONSGML v1.0//EN
CALSCALE:GREGORIAN
METHOD:PUBLISH
X-WR-CALNAME:Hetan latu ry
X-ORIGINAL-URL:https://www.hetanlatu.fi
X-WR-CALDESC:Events for Hetan latu ry
REFRESH-INTERVAL;VALUE=DURATION:PT1H
X-Robots-Tag:noindex
X-PUBLISHED-TTL:PT1H
BEGIN:VTIMEZONE
TZID:UTC
BEGIN:STANDARD
TZOFFSETFROM:+0000
TZOFFSETTO:+0000
TZNAME:UTC
DTSTART:20240101T000000
END:STANDARD
END:VTIMEZONE
BEGIN:VEVENT
DTSTART;TZID=UTC:20240710T170000
DTEND;TZID=UTC:20240710T200000
DTSTAMP:20260421T193751
CREATED:20240604T105718Z
LAST-MODIFIED:20240604T105718Z
UID:861-1720630800-1720641600@www.hetanlatu.fi
SUMMARY:Kanoottimelontailta kotiseutumuseolla
DESCRIPTION:Hetan Ladun järjestämä kanoottimelontailta ke 10.7. klo 17 Hetan kotiseutumuseolla\, Ounastie 437. Aiempaa kokemusta ei vaadita\, mutta uimataito pakollinen. Omakustanteinen kahvittelumahdollisuus alkuinfon aikana museon kanttiinissa. Melonnan jälkeen tarjolla makkaranpaistoa. Säänmukainen varustus ja jalkaan kumisaappaat. Ukonilman sattuessa tilaisuus perutaan. Kesto noin 3 tuntia. Kanootit ja muut varusteet tulevat järjestäjän puolesta. Lisäinfoa ja ilmoittautumiset ma 8.7. mennessä p. 040 8366093 / Edit Heiskanen.
URL:https://www.hetanlatu.fi/tapahtuma/kanoottimelontailta-kotiseutumuseolla/
LOCATION:Hetta
END:VEVENT
BEGIN:VEVENT
DTSTART;TZID=UTC:20240722T180000
DTEND;TZID=UTC:20240722T200000
DTSTAMP:20260421T193751
CREATED:20240529T070632Z
LAST-MODIFIED:20240529T070632Z
UID:856-1721671200-1721678400@www.hetanlatu.fi
SUMMARY:Fribeegolfin perusteet
DESCRIPTION:Hetan Latu järjestää frisbeegolf-illan Jyppyrän maastossa Hetan frisbeegolf-radalla maanantaina 22.7. Tarkempi aika ilmoitetaan myöhemmin. Vetäjinä Henri Mannela ja Juhan-Tuomma Magga. Tule tutustumaan frisbeegolfin saloihin! \n 
URL:https://www.hetanlatu.fi/tapahtuma/fribeegolfin-perusteet/
END:VEVENT
END:VCALENDAR