BEGIN:VCALENDAR
VERSION:2.0
PRODID:-//Hetan latu ry - ECPv5.14.2.1//NONSGML v1.0//EN
CALSCALE:GREGORIAN
METHOD:PUBLISH
X-WR-CALNAME:Hetan latu ry
X-ORIGINAL-URL:https://www.hetanlatu.fi
X-WR-CALDESC:Events for Hetan latu ry
REFRESH-INTERVAL;VALUE=DURATION:PT1H
X-Robots-Tag:noindex
X-PUBLISHED-TTL:PT1H
BEGIN:VTIMEZONE
TZID:UTC
BEGIN:STANDARD
TZOFFSETFROM:+0000
TZOFFSETTO:+0000
TZNAME:UTC
DTSTART:20240101T000000
END:STANDARD
END:VTIMEZONE
BEGIN:VEVENT
DTSTART;TZID=UTC:20240506T180000
DTEND;TZID=UTC:20240506T200000
DTSTAMP:20260421T231334
CREATED:20240319T080007Z
LAST-MODIFIED:20240416T065045Z
UID:837-1715018400-1715025600@www.hetanlatu.fi
SUMMARY:Hetan Ladun sääntömääräinen kevätkokous ma 6.5. klo 18
DESCRIPTION:Hetan Ladun sääntömääräinen kevätkokous ma 6.5. klo 18 Luovatuvalla\, kunnan viraston alakerrassa. Kokouksessa käsitellään sääntöjen määräämät asiat sekä luodaan uusi hallitus\, Hetan Ladun uusiin sääntöihin perustuen. Hetan Latu säännöt 2024 \n  \nKokouskahvit tarjotaan\, tervetuloa! \nHetan Latu ry:n johtokunta
URL:https://www.hetanlatu.fi/tapahtuma/hetan-ladun-saantomaarainen-kevatkokous-ma-6-5-klo-18/
END:VEVENT
END:VCALENDAR