BEGIN:VCALENDAR
VERSION:2.0
PRODID:-//Hetan latu ry - ECPv5.14.2.1//NONSGML v1.0//EN
CALSCALE:GREGORIAN
METHOD:PUBLISH
X-WR-CALNAME:Hetan latu ry
X-ORIGINAL-URL:https://www.hetanlatu.fi
X-WR-CALDESC:Events for Hetan latu ry
REFRESH-INTERVAL;VALUE=DURATION:PT1H
X-Robots-Tag:noindex
X-PUBLISHED-TTL:PT1H
BEGIN:VTIMEZONE
TZID:UTC
BEGIN:STANDARD
TZOFFSETFROM:+0000
TZOFFSETTO:+0000
TZNAME:UTC
DTSTART:20240101T000000
END:STANDARD
END:VTIMEZONE
BEGIN:VEVENT
DTSTART;TZID=UTC:20240224T100000
DTEND;TZID=UTC:20240224T140000
DTSTAMP:20260421T023556
CREATED:20240121T191820Z
LAST-MODIFIED:20240121T191820Z
UID:824-1708768800-1708783200@www.hetanlatu.fi
SUMMARY:Kansallisen hiihtopäivän retki Pyhäkerolle 24.2.
DESCRIPTION:Hetan Latu järjestää kansallisena hiihtopäivänä 24.2. hiihtoretken Pyhäkerolle. Lähtö klo 10 kunnan rannasta. Perillä Hetan Latu tarjoaa makkarat. Omat juomat mukaan. Pakkasraja -15.
URL:https://www.hetanlatu.fi/tapahtuma/kansallisen-hiihtopaivan-retki-pyhakerolle-24-2/
END:VEVENT
BEGIN:VEVENT
DTSTART;TZID=UTC:20240224T180000
DTEND;TZID=UTC:20240224T220000
DTSTAMP:20260421T023556
CREATED:20240121T192612Z
LAST-MODIFIED:20240224T140057Z
UID:827-1708797600-1708812000@www.hetanlatu.fi
SUMMARY:PERUTTU Kuutamohiihto 24.2. klo 18
DESCRIPTION:Hetan Ladun kuutamohiihto lauantaina 24.2. Lähtö klo 18 kunnan rannasta. Hiihdetään porukalla Hetan Kodalle\, jossa Hetan Latu tarjoaa pullakahvit. Paluu omaan tahtiin. Muista oma otsalamppu varalta. Pakkasraja -15. PERUTTU sään ja latupuutoksen vuoksi!
URL:https://www.hetanlatu.fi/tapahtuma/kuutamohiihto-24-2-klo-18/
END:VEVENT
END:VCALENDAR