BEGIN:VCALENDAR
VERSION:2.0
PRODID:-//Hetan latu ry - ECPv5.14.2.1//NONSGML v1.0//EN
CALSCALE:GREGORIAN
METHOD:PUBLISH
X-WR-CALNAME:Hetan latu ry
X-ORIGINAL-URL:https://www.hetanlatu.fi
X-WR-CALDESC:Events for Hetan latu ry
REFRESH-INTERVAL;VALUE=DURATION:PT1H
X-Robots-Tag:noindex
X-PUBLISHED-TTL:PT1H
BEGIN:VTIMEZONE
TZID:UTC
BEGIN:STANDARD
TZOFFSETFROM:+0000
TZOFFSETTO:+0000
TZNAME:UTC
DTSTART:20260101T000000
END:STANDARD
END:VTIMEZONE
BEGIN:VEVENT
DTSTART;TZID=UTC:20260118T080000
DTEND;TZID=UTC:20260118T170000
DTSTAMP:20260420T114834
CREATED:20260118T081027Z
LAST-MODIFIED:20260118T081027Z
UID:962-1768723200-1768755600@www.hetanlatu.fi
SUMMARY:Lumikenkäretki 25.1
DESCRIPTION:
URL:https://www.hetanlatu.fi/tapahtuma/lumikenkaretki-25-1/
END:VEVENT
END:VCALENDAR