BEGIN:VCALENDAR
VERSION:2.0
PRODID:-//Hetan latu ry - ECPv5.14.2.1//NONSGML v1.0//EN
CALSCALE:GREGORIAN
METHOD:PUBLISH
X-WR-CALNAME:Hetan latu ry
X-ORIGINAL-URL:https://www.hetanlatu.fi
X-WR-CALDESC:Events for Hetan latu ry
REFRESH-INTERVAL;VALUE=DURATION:PT1H
X-Robots-Tag:noindex
X-PUBLISHED-TTL:PT1H
BEGIN:VTIMEZONE
TZID:UTC
BEGIN:STANDARD
TZOFFSETFROM:+0000
TZOFFSETTO:+0000
TZNAME:UTC
DTSTART:20240101T000000
END:STANDARD
END:VTIMEZONE
BEGIN:VEVENT
DTSTART;TZID=UTC:20240831T200000
DTEND;TZID=UTC:20240901T100000
DTSTAMP:20260421T175617
CREATED:20240815T161001Z
LAST-MODIFIED:20240815T161001Z
UID:872-1725134400-1725184800@www.hetanlatu.fi
SUMMARY:Nuku yö ulkona 31.8. 2024
DESCRIPTION:Nuku yö ulkona 31.8. 2024 \nTervaniemessä\, Enontekiön Hetassa. Tapahtuma alkaa klo 20. Hetan Latu tarjoaa lättykahvit. \nTapahtuma järjestetään yhteistyössä Näkkälä Adventuresin kanssa. Heiltä voit vuokrata mm. riippumattoja sekä he tarjoavat mahdollisuuden melontaan ja suppailuun maksua vastaan. \n 
URL:https://www.hetanlatu.fi/tapahtuma/nuku-yo-ulkona-31-8-2024/
END:VEVENT
END:VCALENDAR