BEGIN:VCALENDAR
VERSION:2.0
PRODID:-//Hetan latu ry - ECPv5.14.2.1//NONSGML v1.0//EN
CALSCALE:GREGORIAN
METHOD:PUBLISH
X-WR-CALNAME:Hetan latu ry
X-ORIGINAL-URL:https://www.hetanlatu.fi
X-WR-CALDESC:Events for Hetan latu ry
REFRESH-INTERVAL;VALUE=DURATION:PT1H
X-Robots-Tag:noindex
X-PUBLISHED-TTL:PT1H
BEGIN:VTIMEZONE
TZID:UTC
BEGIN:STANDARD
TZOFFSETFROM:+0000
TZOFFSETTO:+0000
TZNAME:UTC
DTSTART:20240101T000000
END:STANDARD
END:VTIMEZONE
BEGIN:VEVENT
DTSTART;TZID=UTC:20240825T130000
DTEND;TZID=UTC:20240825T160000
DTSTAMP:20260421T193743
CREATED:20240812T193519Z
LAST-MODIFIED:20240814T083519Z
UID:868-1724590800-1724601600@www.hetanlatu.fi
SUMMARY:Sieniretki su 25.8.2024
DESCRIPTION:Hetan Ladun sieniretki sunnuntaina 25.8.2024 klo 13-16. Ota mukaan oma sienikori/sanko ja sieniveitsi. Kokoonnumme grillin (Niestapaikka) pihalla klo 13 josta lähdemme yhdessä liikkeelle. Retken jälkeen valmistamme sienistä pientä syötävää. \nVetäjänä toimii Reetta jolta voipi kysellä lisätietoja sekä ilmoittautua hänelle 24.8. klo 18 mennessä. \nReetta Niemelä +358 50 5402877
URL:https://www.hetanlatu.fi/tapahtuma/sieniretki-su-25-8-2024/
END:VEVENT
END:VCALENDAR