BEGIN:VCALENDAR
VERSION:2.0
PRODID:-//Hetan latu ry - ECPv5.14.2.1//NONSGML v1.0//EN
CALSCALE:GREGORIAN
METHOD:PUBLISH
X-WR-CALNAME:Hetan latu ry
X-ORIGINAL-URL:https://www.hetanlatu.fi
X-WR-CALDESC:Events for Hetan latu ry
REFRESH-INTERVAL;VALUE=DURATION:PT1H
X-Robots-Tag:noindex
X-PUBLISHED-TTL:PT1H
BEGIN:VTIMEZONE
TZID:UTC
BEGIN:STANDARD
TZOFFSETFROM:+0000
TZOFFSETTO:+0000
TZNAME:UTC
DTSTART:20240101T000000
END:STANDARD
END:VTIMEZONE
BEGIN:VEVENT
DTSTART;TZID=UTC:20240131T170000
DTEND;TZID=UTC:20240131T200000
DTSTAMP:20260421T021053
CREATED:20240112T155529Z
LAST-MODIFIED:20240112T155529Z
UID:819-1706720400-1706731200@www.hetanlatu.fi
SUMMARY:Avantouintia Hetan Kodalla keskiviikkoisin klo 17-20
DESCRIPTION:Avanto + sauna keskiviikkoisin klo 17 -20.\n\n\nHinta jäseniltä 6 e/kerta\, muut 12 e/kerta.\n\n\nMaksu käteisellä paikan päällä tai maksu myöhemmin kortilla respaan useampi kerta.\n\n\nHetan Kota\, Ounastie 583\, Hetta.
URL:https://www.hetanlatu.fi/tapahtuma/avantouintia-hetan-kodalla-keskiviikkoisin-klo-17-20-2/
END:VEVENT
END:VCALENDAR