BEGIN:VCALENDAR
VERSION:2.0
PRODID:-//Hetan latu ry - ECPv5.14.2.1//NONSGML v1.0//EN
CALSCALE:GREGORIAN
METHOD:PUBLISH
X-WR-CALNAME:Hetan latu ry
X-ORIGINAL-URL:https://www.hetanlatu.fi
X-WR-CALDESC:Events for Hetan latu ry
REFRESH-INTERVAL;VALUE=DURATION:PT1H
X-Robots-Tag:noindex
X-PUBLISHED-TTL:PT1H
BEGIN:VTIMEZONE
TZID:UTC
BEGIN:STANDARD
TZOFFSETFROM:+0000
TZOFFSETTO:+0000
TZNAME:UTC
DTSTART:20230101T000000
END:STANDARD
END:VTIMEZONE
BEGIN:VEVENT
DTSTART;TZID=UTC:20230820T120000
DTEND;TZID=UTC:20230820T150000
DTSTAMP:20260424T152056
CREATED:20230803T172839Z
LAST-MODIFIED:20230815T153755Z
UID:764-1692532800-1692543600@www.hetanlatu.fi
SUMMARY:Perheretki Hietajärven laavulle
DESCRIPTION:Hetan Ladun perheretki Hietajärven laavulle su 20.8. Lähtö klo 12 Ketomellan p-paikalta. Matka 3 km suuntaansa kävellen tai pyörällä. Hetan Latu tarjoaa makkarat ja pullat. Omat vesipullot ja mehut mukaan. Ukonilmalla tapahtuma perutaan. Ei ennakkoilmoittautumista. Ps. Jos olet kyytiä vailla Ketomellaan\, kysy Emmiltä p. 040-8336301. Yritetään järjestää kimppakyytejä.
URL:https://www.hetanlatu.fi/tapahtuma/perheretki-hietajarven-laavulle/
END:VEVENT
END:VCALENDAR