BEGIN:VCALENDAR
VERSION:2.0
PRODID:-//Hetan latu ry - ECPv5.14.2.1//NONSGML v1.0//EN
CALSCALE:GREGORIAN
METHOD:PUBLISH
X-WR-CALNAME:Hetan latu ry
X-ORIGINAL-URL:https://www.hetanlatu.fi
X-WR-CALDESC:Events for Hetan latu ry
REFRESH-INTERVAL;VALUE=DURATION:PT1H
X-Robots-Tag:noindex
X-PUBLISHED-TTL:PT1H
BEGIN:VTIMEZONE
TZID:UTC
BEGIN:STANDARD
TZOFFSETFROM:+0000
TZOFFSETTO:+0000
TZNAME:UTC
DTSTART:20230101T000000
END:STANDARD
END:VTIMEZONE
BEGIN:VEVENT
DTSTART;TZID=UTC:20230621T180000
DTEND;TZID=UTC:20230621T200000
DTSTAMP:20260424T185911
CREATED:20230525T175604Z
LAST-MODIFIED:20230525T175720Z
UID:759-1687370400-1687377600@www.hetanlatu.fi
SUMMARY:Melontailta
DESCRIPTION:Hetan Ladun melontailta ke 21.6. klo 18-20. Aloitamme Hetan Kodalla (Ounastie 583) klo 18 alkuinfolla\, jonka aikana on mahdollisuus nauttia kahvia ja pullaa omakustannehintaan. Teemme pienen melontaretken Ounasjärvellä\, jonka jälkeen yhdistys tarjoaa osallistujille makkaranpaistoa tulilla. Säänmukainen varustus. Kanootit\, melat ja pelastusliivit tulevat järjestäjän puolesta. Sopii aloittelijoille. Ilmoittautumiset viim. su 18.6. mennessä p. 040 8366093/Edit.
URL:https://www.hetanlatu.fi/tapahtuma/melontailta/
END:VEVENT
END:VCALENDAR